BEGIN:VCALENDAR
VERSION:2.0
PRODID:-//Bulacan Polytechnic College - ECPv6.15.12.2//NONSGML v1.0//EN
CALSCALE:GREGORIAN
METHOD:PUBLISH
X-WR-CALNAME:Bulacan Polytechnic College
X-ORIGINAL-URL:https://bpc.edu.ph
X-WR-CALDESC:Events for Bulacan Polytechnic College
REFRESH-INTERVAL;VALUE=DURATION:PT1H
X-Robots-Tag:noindex
X-PUBLISHED-TTL:PT1H
BEGIN:VTIMEZONE
TZID:UTC
BEGIN:STANDARD
TZOFFSETFROM:+0000
TZOFFSETTO:+0000
TZNAME:UTC
DTSTART:20250101T000000
END:STANDARD
END:VTIMEZONE
BEGIN:VEVENT
DTSTART;VALUE=DATE:20260126
DTEND;VALUE=DATE:20260127
DTSTAMP:20260419T193241
CREATED:20260125T023526Z
LAST-MODIFIED:20260126T104837Z
UID:1127-1769385600-1769471999@bpc.edu.ph
SUMMARY:Test Event
DESCRIPTION:BPC Covered Court | January 26\, 2026
URL:https://bpc.edu.ph/event/test-event/
LOCATION:BPC Covered Court\, Bulihan\, Malolos\, Bulacan\, 3000\, Philippines
ATTACH;FMTTYPE=image/jpeg:https://bpc.edu.ph/wp-content/uploads/2026/01/bpc-pandi.jpg
END:VEVENT
BEGIN:VEVENT
DTSTART;TZID=UTC:20260127T080000
DTEND;TZID=UTC:20260127T170000
DTSTAMP:20260419T193241
CREATED:20260126T105141Z
LAST-MODIFIED:20260126T105141Z
UID:1165-1769500800-1769533200@bpc.edu.ph
SUMMARY:Test 2 Event
DESCRIPTION:BPC Activity Center | January 27\, 2026
URL:https://bpc.edu.ph/event/test-2-event/
END:VEVENT
BEGIN:VEVENT
DTSTART;TZID=UTC:20260202T080000
DTEND;TZID=UTC:20260202T170000
DTSTAMP:20260419T193241
CREATED:20260126T131906Z
LAST-MODIFIED:20260130T235832Z
UID:1196-1770019200-1770051600@bpc.edu.ph
SUMMARY:Test 3 Event
DESCRIPTION:BPC Activity Center | February 2\, 2026
URL:https://bpc.edu.ph/event/test-3-event/
END:VEVENT
END:VCALENDAR