BEGIN:VCALENDAR
VERSION:2.0
PRODID:-//Bulacan Polytechnic College - ECPv6.15.12.2//NONSGML v1.0//EN
CALSCALE:GREGORIAN
METHOD:PUBLISH
X-WR-CALNAME:Bulacan Polytechnic College
X-ORIGINAL-URL:https://bpc.edu.ph
X-WR-CALDESC:Events for Bulacan Polytechnic College
REFRESH-INTERVAL;VALUE=DURATION:PT1H
X-Robots-Tag:noindex
X-PUBLISHED-TTL:PT1H
BEGIN:VTIMEZONE
TZID:UTC
BEGIN:STANDARD
TZOFFSETFROM:+0000
TZOFFSETTO:+0000
TZNAME:UTC
DTSTART:20240101T000000
END:STANDARD
END:VTIMEZONE
BEGIN:VEVENT
DTSTART;TZID=UTC:20251219T080000
DTEND;TZID=UTC:20251219T170000
DTSTAMP:20260420T005201
CREATED:20251217T130859Z
LAST-MODIFIED:20251217T130859Z
UID:251-1766131200-1766163600@bpc.edu.ph
SUMMARY:PGB Christmas Party for Faculty and Staff
DESCRIPTION:Christmas Party for all employees of Provincial Government of Bulacan
URL:https://bpc.edu.ph/event/pgb-christmas-party-for-faculty-and-staff/
LOCATION:Hiyas Convention\, Bulihan\, Malolos\, Bulacan\, 3000\, Philippines
END:VEVENT
BEGIN:VEVENT
DTSTART;TZID=UTC:20251218T080000
DTEND;TZID=UTC:20251218T130000
DTSTAMP:20260420T005201
CREATED:20251217T114909Z
LAST-MODIFIED:20251217T114909Z
UID:231-1766044800-1766062800@bpc.edu.ph
SUMMARY:Community Christmas Party
DESCRIPTION:Community Christmas Party of BPCians
URL:https://bpc.edu.ph/event/community-christmas-party/
LOCATION:BPC Covered Court\, Bulihan\, Malolos\, Bulacan\, 3000\, Philippines
END:VEVENT
END:VCALENDAR